BEGIN:VCALENDAR
VERSION:2.0
PRODID:-//World of Bowl - Bowlingcenter Auerbach - ECPv6.15.17.1//NONSGML v1.0//EN
CALSCALE:GREGORIAN
METHOD:PUBLISH
X-ORIGINAL-URL:https://world-of-bowl.de
X-WR-CALDESC:Veranstaltungen für World of Bowl - Bowlingcenter Auerbach
REFRESH-INTERVAL;VALUE=DURATION:PT1H
X-Robots-Tag:noindex
X-PUBLISHED-TTL:PT1H
BEGIN:VTIMEZONE
TZID:Europe/Berlin
BEGIN:DAYLIGHT
TZOFFSETFROM:+0100
TZOFFSETTO:+0200
TZNAME:CEST
DTSTART:20250330T010000
END:DAYLIGHT
BEGIN:STANDARD
TZOFFSETFROM:+0200
TZOFFSETTO:+0100
TZNAME:CET
DTSTART:20251026T010000
END:STANDARD
BEGIN:DAYLIGHT
TZOFFSETFROM:+0100
TZOFFSETTO:+0200
TZNAME:CEST
DTSTART:20260329T010000
END:DAYLIGHT
BEGIN:STANDARD
TZOFFSETFROM:+0200
TZOFFSETTO:+0100
TZNAME:CET
DTSTART:20261025T010000
END:STANDARD
BEGIN:DAYLIGHT
TZOFFSETFROM:+0100
TZOFFSETTO:+0200
TZNAME:CEST
DTSTART:20270328T010000
END:DAYLIGHT
BEGIN:STANDARD
TZOFFSETFROM:+0200
TZOFFSETTO:+0100
TZNAME:CET
DTSTART:20271031T010000
END:STANDARD
END:VTIMEZONE
BEGIN:VEVENT
DTSTART;TZID=Europe/Berlin:20260502T154500
DTEND;TZID=Europe/Berlin:20260502T210000
DTSTAMP:20260423T122628
CREATED:20260205T111157Z
LAST-MODIFIED:20260205T111230Z
UID:1647-1777736700-1777755600@world-of-bowl.de
SUMMARY:Moonlight - Bowling Freitag und Samstag
DESCRIPTION:Freitag und Samstag wird die Bowlingbahn zum Highlight der Nacht. \nMoonlight Bowling sorgt für eine Atmosphäre\, die strahlt – begleitet von cooler Musik\, die den Takt vorgibt. \nUnser Special: Getränkeangebote\, die so besonders sind wie der Abend selbst. \nEin Abend\, der Bowling und Genuss verbindet.Reservieren\, vorbeikommen und den Moment erleben. \nWir freuen uns auf euch.
URL:https://world-of-bowl.de/veranstaltung/1385-copy-copy-copy-copy-2-copy-copy-copy-copy-copy-copy-copy-copy-copy-2-copy-copy-copy/
LOCATION:World-of-Bowl Auerbach\, Falkensteiner Str. 18
CATEGORIES:Regelmäßige Events
ATTACH;FMTTYPE=image/png:https://world-of-bowl.de/wp-content/uploads/2026/02/moonlight.png
END:VEVENT
BEGIN:VEVENT
DTSTART;TZID=Europe/Berlin:20260503T154500
DTEND;TZID=Europe/Berlin:20260503T210000
DTSTAMP:20260423T122628
CREATED:20260205T105729Z
LAST-MODIFIED:20260205T105755Z
UID:1621-1777823100-1777842000@world-of-bowl.de
SUMMARY:Sonntag - Familientag
DESCRIPTION:Sonntag – ein Tag für die Familie. \nIm World of Bowl wird dieser Tag besonders: Zwei Angebote\, die für Freude sorgen. Bowling für nur 19\,90 Euro pro Stunde. \nBuchung Light Jumper für 30 Euro pro Stunde. \nEin Ort\, der nicht fragt\, ob die Zeit schön war – er zeigt es. Familienzeit\, die keine Worte braucht. Wer sagt\, dass Freizeit teuer sein muss? \nSonntag im World of Bowl – für alle\, die wissen\, dass Erlebnisse unbezahlbar sind.
URL:https://world-of-bowl.de/veranstaltung/1385-copy-copy-copy-copy-2-copy-copy-copy-copy-copy-copy-copy-copy-copy-copy-2-copy-copy-copy-copy-copy-copy-copy-copy-copy-copy/
LOCATION:World-of-Bowl Auerbach\, Falkensteiner Str. 18
CATEGORIES:Regelmäßige Events
ATTACH;FMTTYPE=image/png:https://world-of-bowl.de/wp-content/uploads/2026/02/Sonntag-Familientag-Bowling-Spass.png
END:VEVENT
BEGIN:VEVENT
DTSTART;TZID=Europe/Berlin:20260504T190000
DTEND;TZID=Europe/Berlin:20260504T210000
DTSTAMP:20260423T122628
CREATED:20260205T131250Z
LAST-MODIFIED:20260205T131410Z
UID:1672-1777921200-1777928400@world-of-bowl.de
SUMMARY:Allein kommst du\, gemeinsam gewinnst Du!
DESCRIPTION:1 x im Monat Montags heist es „Allein kommst du gemeinsam gewinnst Du!’\nEgal ob Single\, Freunde\, Arbeitskolleg(e)in\, alle sind willkommen. \n2 Stunden Bowling incl. Leihschuhe für nur 7\,50€\n#bowling #gemeinsamstatteinsam #freunde #single #afterwork #spass
URL:https://world-of-bowl.de/veranstaltung/1385-copy-copy-copy-copy-2-copy-copy-copy-copy-copy-copy-copy-copy-copy-copy-2-copy-copy-copy-copy-copy-copy-copy-copy-copy-copy-copy-copy-copy-copy-copy-copy-copy-copy-copy-copy-copy/
LOCATION:World-of-Bowl Auerbach\, Falkensteiner Str. 18
CATEGORIES:Regelmäßige Events
ATTACH;FMTTYPE=image/png:https://world-of-bowl.de/wp-content/uploads/2026/02/Bowling-Spass-zu-zweit-fuer-750-E.png
END:VEVENT
BEGIN:VEVENT
DTSTART;TZID=Europe/Berlin:20260508T154500
DTEND;TZID=Europe/Berlin:20260508T210000
DTSTAMP:20260423T122628
CREATED:20260313T092127Z
LAST-MODIFIED:20260313T092645Z
UID:1687-1778255100-1778274000@world-of-bowl.de
SUMMARY:Heldentag
DESCRIPTION:Heldentag !!!2 Stunden kostenlos bowlen für Mitarbeiter in der Pflege\, Krankenhaus \, Arztpraxis . **Schuhe und Verzehr sind zu bezahlen.Onlinereservierung auf www.worldofbowl.de#pflege #pflegefachkraft #pflegemitherz #bowling
URL:https://world-of-bowl.de/veranstaltung/1385-copy-copy-copy-copy-2-copy-copy-copy-copy-copy-copy-copy-copy-copy-copy-2-copy-copy-copy-copy-copy-copy-copy-copy-copy-copy-copy-copy-copy-copy-copy-copy-copy-copy-copy-2/
LOCATION:World-of-Bowl Auerbach\, Falkensteiner Str. 18
CATEGORIES:Regelmäßige Events
ATTACH;FMTTYPE=image/png:https://world-of-bowl.de/wp-content/uploads/2026/03/Danke-fuer-die-Pflegekraefte.png
END:VEVENT
BEGIN:VEVENT
DTSTART;TZID=Europe/Berlin:20260509T154500
DTEND;TZID=Europe/Berlin:20260509T210000
DTSTAMP:20260423T122628
CREATED:20260205T111245Z
LAST-MODIFIED:20260205T111309Z
UID:1649-1778341500-1778360400@world-of-bowl.de
SUMMARY:Moonlight - Bowling Freitag und Samstag
DESCRIPTION:Freitag und Samstag wird die Bowlingbahn zum Highlight der Nacht. \nMoonlight Bowling sorgt für eine Atmosphäre\, die strahlt – begleitet von cooler Musik\, die den Takt vorgibt. \nUnser Special: Getränkeangebote\, die so besonders sind wie der Abend selbst. \nEin Abend\, der Bowling und Genuss verbindet.Reservieren\, vorbeikommen und den Moment erleben. \nWir freuen uns auf euch.
URL:https://world-of-bowl.de/veranstaltung/1385-copy-copy-copy-copy-2-copy-copy-copy-copy-copy-copy-copy-copy-copy-2-copy-copy-copy-copy/
LOCATION:World-of-Bowl Auerbach\, Falkensteiner Str. 18
CATEGORIES:Regelmäßige Events
ATTACH;FMTTYPE=image/png:https://world-of-bowl.de/wp-content/uploads/2026/02/moonlight.png
END:VEVENT
BEGIN:VEVENT
DTSTART;TZID=Europe/Berlin:20260510T154500
DTEND;TZID=Europe/Berlin:20260510T210000
DTSTAMP:20260423T122628
CREATED:20260205T105805Z
LAST-MODIFIED:20260205T105822Z
UID:1623-1778427900-1778446800@world-of-bowl.de
SUMMARY:Sonntag - Familientag
DESCRIPTION:Sonntag – ein Tag für die Familie. \nIm World of Bowl wird dieser Tag besonders: Zwei Angebote\, die für Freude sorgen. Bowling für nur 19\,90 Euro pro Stunde. \nBuchung Light Jumper für 30 Euro pro Stunde. \nEin Ort\, der nicht fragt\, ob die Zeit schön war – er zeigt es. Familienzeit\, die keine Worte braucht. Wer sagt\, dass Freizeit teuer sein muss? \nSonntag im World of Bowl – für alle\, die wissen\, dass Erlebnisse unbezahlbar sind.
URL:https://world-of-bowl.de/veranstaltung/1385-copy-copy-copy-copy-2-copy-copy-copy-copy-copy-copy-copy-copy-copy-copy-2-copy-copy-copy-copy-copy-copy-copy-copy-copy-copy-copy/
LOCATION:World-of-Bowl Auerbach\, Falkensteiner Str. 18
CATEGORIES:Regelmäßige Events
ATTACH;FMTTYPE=image/png:https://world-of-bowl.de/wp-content/uploads/2026/02/Sonntag-Familientag-Bowling-Spass.png
END:VEVENT
BEGIN:VEVENT
DTSTART;TZID=Europe/Berlin:20260515T154500
DTEND;TZID=Europe/Berlin:20260515T210000
DTSTAMP:20260423T122628
CREATED:20260205T111525Z
LAST-MODIFIED:20260205T111553Z
UID:1651-1778859900-1778878800@world-of-bowl.de
SUMMARY:Moonlight - Bowling Freitag und Samstag
DESCRIPTION:Freitag und Samstag wird die Bowlingbahn zum Highlight der Nacht. \nMoonlight Bowling sorgt für eine Atmosphäre\, die strahlt – begleitet von cooler Musik\, die den Takt vorgibt. \nUnser Special: Getränkeangebote\, die so besonders sind wie der Abend selbst. \nEin Abend\, der Bowling und Genuss verbindet.Reservieren\, vorbeikommen und den Moment erleben. \nWir freuen uns auf euch.
URL:https://world-of-bowl.de/veranstaltung/1385-copy-copy-copy-copy-2-copy-copy-copy-copy-copy-copy-copy-copy-copy-2-copy-copy-copy-copy-copy/
LOCATION:World-of-Bowl Auerbach\, Falkensteiner Str. 18
CATEGORIES:Regelmäßige Events
ATTACH;FMTTYPE=image/png:https://world-of-bowl.de/wp-content/uploads/2026/02/moonlight.png
END:VEVENT
BEGIN:VEVENT
DTSTART;TZID=Europe/Berlin:20260517T154500
DTEND;TZID=Europe/Berlin:20260517T210000
DTSTAMP:20260423T122628
CREATED:20260205T105829Z
LAST-MODIFIED:20260205T105853Z
UID:1625-1779032700-1779051600@world-of-bowl.de
SUMMARY:Sonntag - Familientag
DESCRIPTION:Sonntag – ein Tag für die Familie. \nIm World of Bowl wird dieser Tag besonders: Zwei Angebote\, die für Freude sorgen. Bowling für nur 19\,90 Euro pro Stunde. \nBuchung Light Jumper für 30 Euro pro Stunde. \nEin Ort\, der nicht fragt\, ob die Zeit schön war – er zeigt es. Familienzeit\, die keine Worte braucht. Wer sagt\, dass Freizeit teuer sein muss? \nSonntag im World of Bowl – für alle\, die wissen\, dass Erlebnisse unbezahlbar sind.
URL:https://world-of-bowl.de/veranstaltung/1385-copy-copy-copy-copy-2-copy-copy-copy-copy-copy-copy-copy-copy-copy-copy-2-copy-copy-copy-copy-copy-copy-copy-copy-copy-copy-copy-copy/
LOCATION:World-of-Bowl Auerbach\, Falkensteiner Str. 18
CATEGORIES:Regelmäßige Events
ATTACH;FMTTYPE=image/png:https://world-of-bowl.de/wp-content/uploads/2026/02/Sonntag-Familientag-Bowling-Spass.png
END:VEVENT
BEGIN:VEVENT
DTSTART;TZID=Europe/Berlin:20260523T154500
DTEND;TZID=Europe/Berlin:20260523T210000
DTSTAMP:20260423T122628
CREATED:20260205T111609Z
LAST-MODIFIED:20260205T111633Z
UID:1653-1779551100-1779570000@world-of-bowl.de
SUMMARY:Moonlight - Bowling Freitag und Samstag
DESCRIPTION:Freitag und Samstag wird die Bowlingbahn zum Highlight der Nacht. \nMoonlight Bowling sorgt für eine Atmosphäre\, die strahlt – begleitet von cooler Musik\, die den Takt vorgibt. \nUnser Special: Getränkeangebote\, die so besonders sind wie der Abend selbst. \nEin Abend\, der Bowling und Genuss verbindet.Reservieren\, vorbeikommen und den Moment erleben. \nWir freuen uns auf euch.
URL:https://world-of-bowl.de/veranstaltung/1385-copy-copy-copy-copy-2-copy-copy-copy-copy-copy-copy-copy-copy-copy-2-copy-copy-copy-copy-copy-copy/
LOCATION:World-of-Bowl Auerbach\, Falkensteiner Str. 18
CATEGORIES:Regelmäßige Events
ATTACH;FMTTYPE=image/png:https://world-of-bowl.de/wp-content/uploads/2026/02/moonlight.png
END:VEVENT
BEGIN:VEVENT
DTSTART;TZID=Europe/Berlin:20260524T154500
DTEND;TZID=Europe/Berlin:20260524T210000
DTSTAMP:20260423T122628
CREATED:20260205T105941Z
LAST-MODIFIED:20260205T110007Z
UID:1627-1779637500-1779656400@world-of-bowl.de
SUMMARY:Sonntag - Familientag
DESCRIPTION:Sonntag – ein Tag für die Familie. \nIm World of Bowl wird dieser Tag besonders: Zwei Angebote\, die für Freude sorgen. Bowling für nur 19\,90 Euro pro Stunde. \nBuchung Light Jumper für 30 Euro pro Stunde. \nEin Ort\, der nicht fragt\, ob die Zeit schön war – er zeigt es. Familienzeit\, die keine Worte braucht. Wer sagt\, dass Freizeit teuer sein muss? \nSonntag im World of Bowl – für alle\, die wissen\, dass Erlebnisse unbezahlbar sind.
URL:https://world-of-bowl.de/veranstaltung/1385-copy-copy-copy-copy-2-copy-copy-copy-copy-copy-copy-copy-copy-copy-copy-2-copy-copy-copy-copy-copy-copy-copy-copy-copy-copy-copy-copy-copy/
LOCATION:World-of-Bowl Auerbach\, Falkensteiner Str. 18
CATEGORIES:Regelmäßige Events
ATTACH;FMTTYPE=image/png:https://world-of-bowl.de/wp-content/uploads/2026/02/Sonntag-Familientag-Bowling-Spass.png
END:VEVENT
BEGIN:VEVENT
DTSTART;TZID=Europe/Berlin:20260530T154500
DTEND;TZID=Europe/Berlin:20260530T210000
DTSTAMP:20260423T122628
CREATED:20260205T111846Z
LAST-MODIFIED:20260205T111906Z
UID:1655-1780155900-1780174800@world-of-bowl.de
SUMMARY:Moonlight - Bowling Freitag und Samstag
DESCRIPTION:Freitag und Samstag wird die Bowlingbahn zum Highlight der Nacht. \nMoonlight Bowling sorgt für eine Atmosphäre\, die strahlt – begleitet von cooler Musik\, die den Takt vorgibt. \nUnser Special: Getränkeangebote\, die so besonders sind wie der Abend selbst. \nEin Abend\, der Bowling und Genuss verbindet.Reservieren\, vorbeikommen und den Moment erleben. \nWir freuen uns auf euch.
URL:https://world-of-bowl.de/veranstaltung/1385-copy-copy-copy-copy-2-copy-copy-copy-copy-copy-copy-copy-copy-copy-2-copy-copy-copy-copy-copy-copy-copy/
LOCATION:World-of-Bowl Auerbach\, Falkensteiner Str. 18
CATEGORIES:Regelmäßige Events
ATTACH;FMTTYPE=image/png:https://world-of-bowl.de/wp-content/uploads/2026/02/moonlight.png
END:VEVENT
BEGIN:VEVENT
DTSTART;TZID=Europe/Berlin:20260531T154500
DTEND;TZID=Europe/Berlin:20260531T210000
DTSTAMP:20260423T122628
CREATED:20260205T110014Z
LAST-MODIFIED:20260205T110103Z
UID:1629-1780242300-1780261200@world-of-bowl.de
SUMMARY:Sonntag - Familientag
DESCRIPTION:Sonntag – ein Tag für die Familie. \nIm World of Bowl wird dieser Tag besonders: Zwei Angebote\, die für Freude sorgen. Bowling für nur 19\,90 Euro pro Stunde. \nBuchung Light Jumper für 30 Euro pro Stunde. \nEin Ort\, der nicht fragt\, ob die Zeit schön war – er zeigt es. Familienzeit\, die keine Worte braucht. Wer sagt\, dass Freizeit teuer sein muss? \nSonntag im World of Bowl – für alle\, die wissen\, dass Erlebnisse unbezahlbar sind.
URL:https://world-of-bowl.de/veranstaltung/1385-copy-copy-copy-copy-2-copy-copy-copy-copy-copy-copy-copy-copy-copy-copy-2-copy-copy-copy-copy-copy-copy-copy-copy-copy-copy-copy-copy-copy-copy/
LOCATION:World-of-Bowl Auerbach\, Falkensteiner Str. 18
CATEGORIES:Regelmäßige Events
ATTACH;FMTTYPE=image/png:https://world-of-bowl.de/wp-content/uploads/2026/02/Sonntag-Familientag-Bowling-Spass.png
END:VEVENT
END:VCALENDAR